BEGIN:VCALENDAR
VERSION:2.0
PRODID:-//DarkSky Texas - Formerly IDA Texas - ECPv6.15.20//NONSGML v1.0//EN
CALSCALE:GREGORIAN
METHOD:PUBLISH
X-ORIGINAL-URL:https://darkskytexas.org
X-WR-CALDESC:Events for DarkSky Texas - Formerly IDA Texas
REFRESH-INTERVAL;VALUE=DURATION:PT1H
X-Robots-Tag:noindex
X-PUBLISHED-TTL:PT1H
BEGIN:VTIMEZONE
TZID:America/New_York
BEGIN:DAYLIGHT
TZOFFSETFROM:-0500
TZOFFSETTO:-0400
TZNAME:EDT
DTSTART:20250309T070000
END:DAYLIGHT
BEGIN:STANDARD
TZOFFSETFROM:-0400
TZOFFSETTO:-0500
TZNAME:EST
DTSTART:20251102T060000
END:STANDARD
BEGIN:DAYLIGHT
TZOFFSETFROM:-0500
TZOFFSETTO:-0400
TZNAME:EDT
DTSTART:20260308T070000
END:DAYLIGHT
BEGIN:STANDARD
TZOFFSETFROM:-0400
TZOFFSETTO:-0500
TZNAME:EST
DTSTART:20261101T060000
END:STANDARD
BEGIN:DAYLIGHT
TZOFFSETFROM:-0500
TZOFFSETTO:-0400
TZNAME:EDT
DTSTART:20270314T070000
END:DAYLIGHT
BEGIN:STANDARD
TZOFFSETFROM:-0400
TZOFFSETTO:-0500
TZNAME:EST
DTSTART:20271107T060000
END:STANDARD
END:VTIMEZONE
BEGIN:VEVENT
DTSTART;TZID=America/New_York:20260115T183000
DTEND;TZID=America/New_York:20260115T193000
DTSTAMP:20260423T005205
CREATED:20250815T190622Z
LAST-MODIFIED:20251204T194310Z
UID:5857-1768501800-1768505400@darkskytexas.org
SUMMARY:Jan 15th Wilson County Beautification Association Speakers Forum
DESCRIPTION:Preservation of the Night \nAre we ignoring half of the conservation work that needs to be done? Cindy will explore the natural world and its processes that depend on the absence of artificial light. Living things need natural darkness for navigation\, reproduction\, circadian rhythms\, photoperiodism\, competition\, predation\, and general habitat protection. We humans need it too. Learn what we can do to extend our conservation work to the nighttime.
URL:https://darkskytexas.org/calendar/wilson-county-beautification-association-speakers-forum/
CATEGORIES:Uncategorized
END:VEVENT
END:VCALENDAR