BEGIN:VCALENDAR
VERSION:2.0
PRODID:-//DarkSky Texas - Formerly IDA Texas - ECPv6.15.20//NONSGML v1.0//EN
CALSCALE:GREGORIAN
METHOD:PUBLISH
X-WR-CALNAME:DarkSky Texas - Formerly IDA Texas
X-ORIGINAL-URL:https://darkskytexas.org
X-WR-CALDESC:Events for DarkSky Texas - Formerly IDA Texas
REFRESH-INTERVAL;VALUE=DURATION:PT1H
X-Robots-Tag:noindex
X-PUBLISHED-TTL:PT1H
BEGIN:VTIMEZONE
TZID:America/New_York
BEGIN:DAYLIGHT
TZOFFSETFROM:-0500
TZOFFSETTO:-0400
TZNAME:EDT
DTSTART:20240310T070000
END:DAYLIGHT
BEGIN:STANDARD
TZOFFSETFROM:-0400
TZOFFSETTO:-0500
TZNAME:EST
DTSTART:20241103T060000
END:STANDARD
BEGIN:DAYLIGHT
TZOFFSETFROM:-0500
TZOFFSETTO:-0400
TZNAME:EDT
DTSTART:20250309T070000
END:DAYLIGHT
BEGIN:STANDARD
TZOFFSETFROM:-0400
TZOFFSETTO:-0500
TZNAME:EST
DTSTART:20251102T060000
END:STANDARD
BEGIN:DAYLIGHT
TZOFFSETFROM:-0500
TZOFFSETTO:-0400
TZNAME:EDT
DTSTART:20260308T070000
END:DAYLIGHT
BEGIN:STANDARD
TZOFFSETFROM:-0400
TZOFFSETTO:-0500
TZNAME:EST
DTSTART:20261101T060000
END:STANDARD
BEGIN:DAYLIGHT
TZOFFSETFROM:-0500
TZOFFSETTO:-0400
TZNAME:EDT
DTSTART:20270314T070000
END:DAYLIGHT
BEGIN:STANDARD
TZOFFSETFROM:-0400
TZOFFSETTO:-0500
TZNAME:EST
DTSTART:20271107T060000
END:STANDARD
END:VTIMEZONE
BEGIN:VEVENT
DTSTART;TZID=America/New_York:20260401T190000
DTEND;TZID=America/New_York:20260401T203000
DTSTAMP:20260423T034242
CREATED:20251208T124300Z
LAST-MODIFIED:20251215T150517Z
UID:6646-1775070000-1775075400@darkskytexas.org
SUMMARY:First Wednesday 7PM: Dark Sky Place Coaching
DESCRIPTION:Working on an International Dark Sky Place application? Join us at 7:00PM on the first Wednesday of each month. See full list of events for more info.
URL:https://darkskytexas.org/calendar/first-wednesday-7pm-dark-sky-place-coaching-12/
CATEGORIES:DarkSky Texas,Repeat Event
END:VEVENT
BEGIN:VEVENT
DTSTART;VALUE=DATE:20260306
DTEND;VALUE=DATE:20260309
DTSTAMP:20260423T034242
CREATED:20250815T191252Z
LAST-MODIFIED:20251204T195414Z
UID:5858-1772755200-1773014399@darkskytexas.org
SUMMARY:March 6-8\, 2026 DarkSky Texas Statewide Volunteer and Leader Gathering
DESCRIPTION:Gathering of DarkSky Texas volunteers and leaders to meet in person in Fredericksburg\, TX. We will have the opportunity to be updated on our organization\, strengthen communication\, enhance innovation\, build new skills\, and prioritize future goals for the organization. \nRegistration form for Leaders and Volunteers will be available soon.
URL:https://darkskytexas.org/calendar/darksky-texas-volunteer-and-leader-retreat/
CATEGORIES:DarkSky Texas
END:VEVENT
BEGIN:VEVENT
DTSTART;TZID=America/New_York:20260304T190000
DTEND;TZID=America/New_York:20260304T203000
DTSTAMP:20260423T034242
CREATED:20251208T124300Z
LAST-MODIFIED:20251215T150517Z
UID:6645-1772650800-1772656200@darkskytexas.org
SUMMARY:First Wednesday 7PM: Dark Sky Place Coaching
DESCRIPTION:Working on an International Dark Sky Place application? Join us at 7:00PM on the first Wednesday of each month. See full list of events for more info.
URL:https://darkskytexas.org/calendar/first-wednesday-7pm-dark-sky-place-coaching-11/
CATEGORIES:DarkSky Texas,Repeat Event
END:VEVENT
BEGIN:VEVENT
DTSTART;TZID=America/New_York:20260204T190000
DTEND;TZID=America/New_York:20260204T203000
DTSTAMP:20260423T034242
CREATED:20251208T124300Z
LAST-MODIFIED:20251215T150711Z
UID:6644-1770231600-1770237000@darkskytexas.org
SUMMARY:First Wednesday 7PM: Dark Sky Place Coaching
DESCRIPTION:Working on an International Dark Sky Place application? Join us at 7:00PM on the first Wednesday of each month. See full list of events for more info.
URL:https://darkskytexas.org/calendar/first-wednesday-7pm-dark-sky-place-coaching-10/
CATEGORIES:DarkSky Texas,Repeat Event
END:VEVENT
BEGIN:VEVENT
DTSTART;TZID=America/New_York:20260115T183000
DTEND;TZID=America/New_York:20260115T193000
DTSTAMP:20260423T034242
CREATED:20250815T190622Z
LAST-MODIFIED:20251204T194310Z
UID:5857-1768501800-1768505400@darkskytexas.org
SUMMARY:Jan 15th Wilson County Beautification Association Speakers Forum
DESCRIPTION:Preservation of the Night \nAre we ignoring half of the conservation work that needs to be done? Cindy will explore the natural world and its processes that depend on the absence of artificial light. Living things need natural darkness for navigation\, reproduction\, circadian rhythms\, photoperiodism\, competition\, predation\, and general habitat protection. We humans need it too. Learn what we can do to extend our conservation work to the nighttime.
URL:https://darkskytexas.org/calendar/wilson-county-beautification-association-speakers-forum/
CATEGORIES:Uncategorized
END:VEVENT
BEGIN:VEVENT
DTSTART;TZID=America/New_York:20260108T190000
DTEND;TZID=America/New_York:20260108T203000
DTSTAMP:20260423T034242
CREATED:20251204T175620Z
LAST-MODIFIED:20251204T194741Z
UID:6600-1767898800-1767904200@darkskytexas.org
SUMMARY:Jan 8th - Protecting Dark Skies for Plants and all Living Things at Native Plant Society - Williamson County Chapter Meeting
DESCRIPTION:Cindy’s talk will explore the natural world and the processes that depend on the absence of artificial light. It will include a number of species but will emphasize issues that plants have with artificial lighting. Issues of navigation\, reproduction\, circadian rhythms\, photoperiodism\, competition\, predation\, and general habitat protection will be covered. It will also touch on some issues that humans have with artificial light at night. The talk wraps up with a review of what each of us can do to protect living things during the nighttime.
URL:https://darkskytexas.org/calendar/jan-8th-protecting-dark-skies-for-plants-and-all-living-things-at-native-plant-society-williamson-county-chapter-meeting/
CATEGORIES:Uncategorized
END:VEVENT
BEGIN:VEVENT
DTSTART;TZID=America/New_York:20260107T190000
DTEND;TZID=America/New_York:20260107T203000
DTSTAMP:20260423T034242
CREATED:20251208T124300Z
LAST-MODIFIED:20251215T150709Z
UID:6643-1767812400-1767817800@darkskytexas.org
SUMMARY:First Wednesday 7PM: Dark Sky Place Coaching
DESCRIPTION:Working on an International Dark Sky Place application? Join us at 7:00PM on the first Wednesday of each month. See full list of events for more info.
URL:https://darkskytexas.org/calendar/first-wednesday-7pm-dark-sky-place-coaching-9/
CATEGORIES:DarkSky Texas,Repeat Event
END:VEVENT
BEGIN:VEVENT
DTSTART;TZID=America/New_York:20251203T000000
DTEND;TZID=America/New_York:20251203T235900
DTSTAMP:20260423T034242
CREATED:20251117T171004Z
LAST-MODIFIED:20251215T150355Z
UID:6577-1764720000-1764806340@darkskytexas.org
SUMMARY:First Wednesday 7PM: Dark Sky Place Coaching
DESCRIPTION:Working on an International Dark Sky Place application? Join us at 7:00PM on the first Wednesday of each month. See full list of events for more info.
URL:https://darkskytexas.org/calendar/first-wednesday-7pm-dark-sky-place-coaching-8/
CATEGORIES:DarkSky Texas,Repeat Event
END:VEVENT
BEGIN:VEVENT
DTSTART;TZID=America/New_York:20251111T190000
DTEND;TZID=America/New_York:20251111T203000
DTSTAMP:20260423T034242
CREATED:20250815T193334Z
LAST-MODIFIED:20250815T193742Z
UID:5861-1762887600-1762893000@darkskytexas.org
SUMMARY:11 Nov 2025 7-8:30 PM DarkSky Texas Board Meeting (Open to all Volunteers)
DESCRIPTION:Review the Agenda and Join us! The agenda has the link to join the meeting. \nhttps://docs.google.com/document/d/1LRnNViIoW6NzD5R1tlhKEyClZRSId-1J/edit?usp=sharing&ouid=105677860306105778141&rtpof=true&sd=true
URL:https://darkskytexas.org/calendar/11-nov-2025-7-830-pm-darksky-texas-board-meeting-open-to-all-volunteers/
CATEGORIES:DarkSky Texas
END:VEVENT
BEGIN:VEVENT
DTSTART;VALUE=DATE:20251105
DTEND;VALUE=DATE:20251106
DTSTAMP:20260423T034242
CREATED:20251203T190145Z
LAST-MODIFIED:20251106T190223Z
UID:6541-1762300800-1762387199@darkskytexas.org
SUMMARY:First Wednesday 7PM: Dark Sky Place Coaching
DESCRIPTION:Working on an International Dark Sky Place application? Join us at 7:00PM on the first Wednesday of each month (with the exception of Jan 2025 when the event will be Jan 8th). See full list of events for more info.
URL:https://darkskytexas.org/calendar/first-wednesday-7pm-dark-sky-place-coaching-7/
CATEGORIES:DarkSky Texas,Repeat Event
END:VEVENT
BEGIN:VEVENT
DTSTART;VALUE=DATE:20251105
DTEND;VALUE=DATE:20251106
DTSTAMP:20260423T034242
CREATED:20250513T162116Z
LAST-MODIFIED:20250513T162116Z
UID:5714-1762300800-1762387199@darkskytexas.org
SUMMARY:First Wednesday 7PM: Dark Sky Place Coaching
DESCRIPTION:Working on an International Dark Sky Place application? Join us at 7:00PM on the first Wednesday of each month (with the exception of Jan 2025 when the event will be Jan 8th). See full list of events for more info.
URL:https://darkskytexas.org/calendar/first-wednesday-7pm-dark-sky-place-coaching-6/
CATEGORIES:DarkSky Texas,Repeat Event
END:VEVENT
BEGIN:VEVENT
DTSTART;TZID=America/New_York:20251025T173000
DTEND;TZID=America/New_York:20251025T231100
DTSTAMP:20260423T034242
CREATED:20250922T221231Z
LAST-MODIFIED:20251014T211109Z
UID:5920-1761413400-1761433860@darkskytexas.org
SUMMARY:Mysteries & Myths - Star Party
DESCRIPTION:Join us in celebrating Liberty Hill’s International Dark Sky Community designation with our neighboring communities! Spend an autumn evening exploring the night sky and enjoying family-friendly fun. \nEvent Highlights \n\nExplore the skies through telescopes with astronomy guides\nGrab dinner from local food trucks\nCreate space-themed crafts with the Liberty Hill Public Library\nHear from The Wizard of the Night Sky\nHunt for the mythical Sasquatch\n\nBring your lawn chairs and blankets to relax under the stars. \nRemember there’s an entry fee. Camping or day-use reservations are required for park entry.\nReserve your site or purchase a day pass HERE: \nSaturday\, October 25 · 5:30 PM – 11:11 PM\nRiver Ranch County Park @ Interpretive Center\n194 Reveille Way\nLiberty Hill\, TX 78642
URL:https://darkskytexas.org/calendar/mysteries-myths-star-party/
CATEGORIES:Uncategorized
END:VEVENT
BEGIN:VEVENT
DTSTART;VALUE=DATE:20251016
DTEND;VALUE=DATE:20251020
DTSTAMP:20260423T034242
CREATED:20250815T191956Z
LAST-MODIFIED:20250815T194204Z
UID:5859-1760572800-1760918399@darkskytexas.org
SUMMARY:Oct 16-19 DarkSky Texas at the Texas Master Naturalist State Meeting
DESCRIPTION:Statewide gathering of Texas Master Naturalists with DarkSky Texas members presenting programs and staffing an exhibit booth.
URL:https://darkskytexas.org/calendar/oct-16-19-darksky-texas-at-the-texas-master-naturalist-state-meeting/
CATEGORIES:DarkSky Texas
END:VEVENT
BEGIN:VEVENT
DTSTART;TZID=America/New_York:20251002T183000
DTEND;TZID=America/New_York:20251002T200000
DTSTAMP:20260423T034242
CREATED:20250815T192336Z
LAST-MODIFIED:20250815T194236Z
UID:5860-1759429800-1759435200@darkskytexas.org
SUMMARY:DarkSky Texas at Georgetown Astronomy Club
DESCRIPTION:Cindy Luongo Cassidy of DarkSky Texas will be the speaker for the Georgetown Astronomy Club meeting. \nAre we ignoring half of the conservation work that needs to be done? Cindy will explore the natural world and its processes that depend on the absence of artificial light. Living things need natural darkness for navigation\, reproduction\, circadian rhythms\, photoperiodism\, competition\, predation\, and general habitat protection. We humans need it too. Learn what we can do to extend our conservation work to the nighttime.
URL:https://darkskytexas.org/calendar/darksky-texas-at-georgetown-astronomy-club/
CATEGORIES:Uncategorized
END:VEVENT
BEGIN:VEVENT
DTSTART;VALUE=DATE:20251001
DTEND;VALUE=DATE:20251002
DTSTAMP:20260423T034242
CREATED:20250513T162047Z
LAST-MODIFIED:20250513T162047Z
UID:5713-1759276800-1759363199@darkskytexas.org
SUMMARY:First Wednesday 7PM: Dark Sky Place Coaching
DESCRIPTION:Working on an International Dark Sky Place application? Join us at 7:00PM on the first Wednesday of each month (with the exception of Jan 2025 when the event will be Jan 8th). See full list of events for more info.
URL:https://darkskytexas.org/calendar/first-wednesday-7pm-dark-sky-place-coaching-5/
CATEGORIES:DarkSky Texas,Repeat Event
END:VEVENT
BEGIN:VEVENT
DTSTART;TZID=America/New_York:20250913T140000
DTEND;TZID=America/New_York:20250913T150000
DTSTAMP:20260423T034242
CREATED:20250902T200644Z
LAST-MODIFIED:20250905T163833Z
UID:5908-1757772000-1757775600@darkskytexas.org
SUMMARY:Presentation: Dark Skies Over the RGV
DESCRIPTION:Did you know most migratory birds fly at night? But city lights can disorient birds\, causing them to stray off track. This can lead to collisions with buildings and also imperils their health as they waste precious energy in confusion.\nLight pollution is on the rise worldwide\, not only affecting the nighttime behaviors of birds and other wildlife\, but impacting human health\, too\, and our ability to see the stars. The good news is that it’s one of the most easily reversible forms of pollution!\n\nJoin DarkSky Texas RGV Outreach Coordinator Jennifer Rektorik at Wild Birds Unlimited McAllen for a one-hour talk about the five principles of responsible outdoor lighting and ways we can protect the night skies of the Rio Grande Valley.\n\nPlus\, stay after for a native plant sale!
URL:https://darkskytexas.org/calendar/presentation-dark-skies-over-the-rgv/
CATEGORIES:Uncategorized
END:VEVENT
BEGIN:VEVENT
DTSTART;TZID=America/New_York:20250909T190000
DTEND;TZID=America/New_York:20250909T201500
DTSTAMP:20260423T034242
CREATED:20250824T204543Z
LAST-MODIFIED:20250915T140408Z
UID:5878-1757444400-1757448900@darkskytexas.org
SUMMARY:Sept 9 at 7:00 pm Membership Meeting
DESCRIPTION:﻿ \nThe General Membership Meeting took place on September 9\, 2025\, bringing together DarkSky Texas volunteers from across the state. Attendees connected over shared goals\, received updates on current initiatives\, and explored tools available to support their advocacy work. \nYou can watch the full meeting replay in the video above (or view it directly on YouTube).
URL:https://darkskytexas.org/calendar/sept-9-at-700-pm-membership-meeting/
CATEGORIES:DarkSky Texas
END:VEVENT
BEGIN:VEVENT
DTSTART;VALUE=DATE:20250903
DTEND;VALUE=DATE:20250904
DTSTAMP:20260423T034242
CREATED:20250513T162019Z
LAST-MODIFIED:20250513T162019Z
UID:5712-1756857600-1756943999@darkskytexas.org
SUMMARY:First Wednesday 7PM: Dark Sky Place Coaching
DESCRIPTION:Working on an International Dark Sky Place application? Join us at 7:00PM on the first Wednesday of each month (with the exception of Jan 2025 when the event will be Jan 8th). See full list of events for more info.
URL:https://darkskytexas.org/calendar/first-wednesday-7pm-dark-sky-place-coaching-4/
CATEGORIES:DarkSky Texas,Repeat Event
END:VEVENT
BEGIN:VEVENT
DTSTART;TZID=America/New_York:20250818T100000
DTEND;TZID=America/New_York:20250818T113000
DTSTAMP:20260423T034242
CREATED:20250811T215858Z
LAST-MODIFIED:20250811T220143Z
UID:5855-1755511200-1755516600@darkskytexas.org
SUMMARY:Dark Skies Presentation for Wimberley Birding Society
DESCRIPTION:The talk will explore the natural world and the processes that depend on the absence of artificial light. It will emphasize the issues that birds have with artificial lighting. I’ll also include some information on bird-friendly windows. It will cover issues of navigation (& migration)\, reproduction\, circadian rhythms\, photoperiodism\, competition\, predation\, and general habitat protection. I’ll also touch on some issues that humans have with artificial light at night too. We’ll review what we can do to extend our protection of birds (and ourselves) to the nighttime.
URL:https://darkskytexas.org/calendar/dark-skies-presentation-for-wimberley-birding-society/
CATEGORIES:Uncategorized
END:VEVENT
BEGIN:VEVENT
DTSTART;TZID=America/New_York:20250812T180000
DTEND;TZID=America/New_York:20250812T190000
DTSTAMP:20260423T034242
CREATED:20250811T215225Z
LAST-MODIFIED:20250811T220109Z
UID:5854-1755021600-1755025200@darkskytexas.org
SUMMARY:Dark Skies Presentation for Driftwood Historical Conservation Society
DESCRIPTION:Are we ignoring half of the conservation work that needs to be done? Cindy will explore the natural world and its processes that depend on the absence of artificial light. Living things need natural darkness for navigation\, reproduction\, circadian rhythms\, photoperiodism\, competition\, predation\, and general habitat protection. We humans need it too. Learn what we can do to extend our conservation work to the nighttime.
URL:https://darkskytexas.org/calendar/dark-skies-presentation-for-driftwood-historical-conservation-society/
CATEGORIES:Uncategorized
END:VEVENT
BEGIN:VEVENT
DTSTART;VALUE=DATE:20250806
DTEND;VALUE=DATE:20250807
DTSTAMP:20260423T034242
CREATED:20250513T161951Z
LAST-MODIFIED:20250513T161951Z
UID:5711-1754438400-1754524799@darkskytexas.org
SUMMARY:First Wednesday 7PM: Dark Sky Place Coaching
DESCRIPTION:Working on an International Dark Sky Place application? Join us at 7:00PM on the first Wednesday of each month (with the exception of Jan 2025 when the event will be Jan 8th). See full list of events for more info.
URL:https://darkskytexas.org/calendar/first-wednesday-7pm-dark-sky-place-coaching-3/
CATEGORIES:DarkSky Texas,Repeat Event
END:VEVENT
BEGIN:VEVENT
DTSTART;TZID=America/New_York:20250722T190000
DTEND;TZID=America/New_York:20250722T203000
DTSTAMP:20260423T034242
CREATED:20250719T200232Z
LAST-MODIFIED:20250719T202206Z
UID:5818-1753210800-1753216200@darkskytexas.org
SUMMARY:22 July 2025 7-8:30 PM DarkSky Texas Board Meeting (Open to all Volunteers)
DESCRIPTION:Review the Agenda and Join us! The agenda has the link to join the meeting. \nhttps://docs.google.com/document/d/1MjF1JRDxOfqbuEF13mEwKZLu8CO6Ozr1/edit?usp=sharing&ouid=105677860306105778141&rtpof=true&sd=true \n 
URL:https://darkskytexas.org/calendar/22-july-2025-7-830-pm-darksky-texas-board-meeting-open-to-all-volunteers/
CATEGORIES:DarkSky Texas
END:VEVENT
BEGIN:VEVENT
DTSTART;VALUE=DATE:20250702
DTEND;VALUE=DATE:20250703
DTSTAMP:20260423T034242
CREATED:20250513T154101Z
LAST-MODIFIED:20250513T154101Z
UID:5708-1751414400-1751500799@darkskytexas.org
SUMMARY:First Wednesday 7PM: Dark Sky Place Coaching
DESCRIPTION:Working on an International Dark Sky Place application? Join us at 7:00PM on the first Wednesday of each month (with the exception of Jan 2025 when the event will be Jan 8th). See full list of events for more info.
URL:https://darkskytexas.org/calendar/first-wednesday-7pm-dark-sky-place-coaching-2/
CATEGORIES:DarkSky Texas,Repeat Event
END:VEVENT
BEGIN:VEVENT
DTSTART;VALUE=DATE:20250604
DTEND;VALUE=DATE:20250605
DTSTAMP:20260423T034242
CREATED:20250512T194156Z
LAST-MODIFIED:20250512T194228Z
UID:5704-1748995200-1749081599@darkskytexas.org
SUMMARY:First Wednesday 7PM: Dark Sky Place Coaching
DESCRIPTION:Working on an International Dark Sky Place application? Join us at 7:00PM on the first Wednesday of each month (with the exception of Jan 2025 when the event will be Jan 8th). See full list of events for more info.
URL:https://darkskytexas.org/calendar/first-wednesday-7pm-dark-sky-place-coaching/
CATEGORIES:DarkSky Texas,Repeat Event
END:VEVENT
BEGIN:VEVENT
DTSTART;TZID=America/New_York:20250513T190000
DTEND;TZID=America/New_York:20250513T203000
DTSTAMP:20260423T034242
CREATED:20250512T193523Z
LAST-MODIFIED:20250523T160649Z
UID:5702-1747162800-1747168200@darkskytexas.org
SUMMARY:May 13\, 2025 – DARKSKY TEXAS BOARD MEETING (OPEN TO All)
DESCRIPTION:Sit in on the DarkSky Texas Board of Directors Meeting. It’s open to all of our membership. We especially encourage attendance by representatives of county-wide night sky related groups\, astronomy club reps\, and others who want to volunteer. \nDarkSky Texas Board Meetings\nTuesday\, May 13\, 2025 · 7:00 – 8:30pm Central Time\nZoom joining info\nVideo call link:  https://zoom.us/j/92016950186
URL:https://darkskytexas.org/calendar/may-13-2025-darksky-texas-board-meeting-open-to-all/
CATEGORIES:DarkSky Texas
END:VEVENT
BEGIN:VEVENT
DTSTART;TZID=America/New_York:20250504T110000
DTEND;TZID=America/New_York:20250504T170000
DTSTAMP:20260423T034242
CREATED:20250513T155048Z
LAST-MODIFIED:20250529T163150Z
UID:5709-1746356400-1746378000@darkskytexas.org
SUMMARY:May 4th - Denton Redbud Festival
DESCRIPTION:Celebrate Earth Month in the Redbud Capital of Texas! \nThe award-winning Denton Redbud Festival has been promoting community beautification and Denton pride since 1994. The Redbud Festival features dozens of vendors with tree and plant sales\, gardening supplies\, household items and local/handmade products\, along with family-friendly activities and live\, local music. \nDarkSky Texas will host a table with an exhibit of better lights for better nights. \nLocation: Denton Civic Center and Quakertown Park
URL:https://darkskytexas.org/calendar/may-4th-denton-redbud-festival/
END:VEVENT
BEGIN:VEVENT
DTSTART;TZID=America/New_York:20250426T190000
DTEND;TZID=America/New_York:20250426T210000
DTSTAMP:20260423T034242
CREATED:20250506T172608Z
LAST-MODIFIED:20250508T182003Z
UID:5666-1745694000-1745701200@darkskytexas.org
SUMMARY:4/26 Night Sky Celebration (City of Carrollton)
DESCRIPTION:Come for an evening under the night sky at Elm Fork Nature Center\, sponsored by the City of Carrollton\, DarkSky Texas\, NASA\, and the National Space Society of N. Texas. Discover the wonders of the dark sky\, see a life size NASA space exploration suit\, see nocturnal creatures that call the nature preserve home\, enjoy stargazing\, and more exciting activities! \nThe event also includes an 8pm night hike around the Preserve.
URL:https://darkskytexas.org/calendar/4-26-night-sky-celebration-city-of-carrollton/
CATEGORIES:Uncategorized
END:VEVENT
BEGIN:VEVENT
DTSTART;TZID=America/New_York:20250425T093000
DTEND;TZID=America/New_York:20250425T160000
DTSTAMP:20260423T034242
CREATED:20250508T171646Z
LAST-MODIFIED:20250704T091851Z
UID:5683-1745573400-1745596800@darkskytexas.org
SUMMARY:April 25\, 2025 – Dark Sky Day at the Texas Capitol
DESCRIPTION:On April 25\, 2025\, supporters gathered at the Texas Capitol for Dark Sky Day at the Capitol. \nRepresentative Troxclair honored DarkSky Texas on the floor of the Texas House\, recognizing our efforts to reduce light pollution across the state. \nWe were proud to be supported by both Senator Blanco and Representative Troxclair\, who sponsored resolutions marking this important day. \nWatch the video embedded above (or view it directly here) to see Representative Troxclair’s remarks honoring DarkSky Texas.
URL:https://darkskytexas.org/calendar/april-25th-dark-sky-day-at-the-texas-capitol/
CATEGORIES:DarkSky Texas
END:VEVENT
BEGIN:VEVENT
DTSTART;TZID=America/New_York:20250409T190000
DTEND;TZID=America/New_York:20250409T200000
DTSTAMP:20260423T034242
CREATED:20250508T172018Z
LAST-MODIFIED:20250530T135513Z
UID:5684-1744225200-1744228800@darkskytexas.org
SUMMARY:April 9\, 2025 – DarkSky Texas: Night Lights and Bat Flights with Dr. Amanda Adams
DESCRIPTION:Watch the “Night Lights and Bat Flights” webinar with Dr. Amanda Adams \n \nThis webinar explores how artificial light at night affects bats’ flight\, foraging\, and survival — and why lighting choices matter for protecting nocturnal wildlife. \nDr. Amanda Adams of Bat Conservation International (BCI) shares insights from two decades of global bat research.
URL:https://darkskytexas.org/calendar/april-9-2025-700-p-m-dark-sky-texas-night-lights-and-bat-flights-with-dr-amanda-adams/
CATEGORIES:DarkSky Texas
END:VEVENT
BEGIN:VEVENT
DTSTART;TZID=America/New_York:20250328T190000
DTEND;TZID=America/New_York:20250328T220000
DTSTAMP:20260423T034242
CREATED:20250506T172608Z
LAST-MODIFIED:20250508T183725Z
UID:5667-1743188400-1743199200@darkskytexas.org
SUMMARY:3/28 at 7pm Liberty Hill Star Party
DESCRIPTION:Join us in Liberty Hill\, Friday March 28th\, 7PM telescope set up\, crafts for the children sponsored by the library and an educational table will be set up by LH Save Our Stars. Viewing and education starting at 8 until 10 by Austin Astronomical Group.
URL:https://darkskytexas.org/calendar/3-28-at-7pm-liberty-hill-star-party/
CATEGORIES:Uncategorized
END:VEVENT
END:VCALENDAR