BEGIN:VCALENDAR
VERSION:2.0
PRODID:-//DarkSky Texas - Formerly IDA Texas - ECPv6.15.20//NONSGML v1.0//EN
CALSCALE:GREGORIAN
METHOD:PUBLISH
X-ORIGINAL-URL:https://darkskytexas.org
X-WR-CALDESC:Events for DarkSky Texas - Formerly IDA Texas
REFRESH-INTERVAL;VALUE=DURATION:PT1H
X-Robots-Tag:noindex
X-PUBLISHED-TTL:PT1H
BEGIN:VTIMEZONE
TZID:America/New_York
BEGIN:DAYLIGHT
TZOFFSETFROM:-0500
TZOFFSETTO:-0400
TZNAME:EDT
DTSTART:20240310T070000
END:DAYLIGHT
BEGIN:STANDARD
TZOFFSETFROM:-0400
TZOFFSETTO:-0500
TZNAME:EST
DTSTART:20241103T060000
END:STANDARD
BEGIN:DAYLIGHT
TZOFFSETFROM:-0500
TZOFFSETTO:-0400
TZNAME:EDT
DTSTART:20250309T070000
END:DAYLIGHT
BEGIN:STANDARD
TZOFFSETFROM:-0400
TZOFFSETTO:-0500
TZNAME:EST
DTSTART:20251102T060000
END:STANDARD
BEGIN:DAYLIGHT
TZOFFSETFROM:-0500
TZOFFSETTO:-0400
TZNAME:EDT
DTSTART:20260308T070000
END:DAYLIGHT
BEGIN:STANDARD
TZOFFSETFROM:-0400
TZOFFSETTO:-0500
TZNAME:EST
DTSTART:20261101T060000
END:STANDARD
BEGIN:DAYLIGHT
TZOFFSETFROM:-0500
TZOFFSETTO:-0400
TZNAME:EDT
DTSTART:20270314T070000
END:DAYLIGHT
BEGIN:STANDARD
TZOFFSETFROM:-0400
TZOFFSETTO:-0500
TZNAME:EST
DTSTART:20271107T060000
END:STANDARD
END:VTIMEZONE
BEGIN:VEVENT
DTSTART;TZID=America/New_York:20251203T000000
DTEND;TZID=America/New_York:20251203T235900
DTSTAMP:20260423T042441
CREATED:20251117T171004Z
LAST-MODIFIED:20251215T150355Z
UID:6577-1764720000-1764806340@darkskytexas.org
SUMMARY:First Wednesday 7PM: Dark Sky Place Coaching
DESCRIPTION:Working on an International Dark Sky Place application? Join us at 7:00PM on the first Wednesday of each month. See full list of events for more info.
URL:https://darkskytexas.org/calendar/first-wednesday-7pm-dark-sky-place-coaching-8/
CATEGORIES:DarkSky Texas,Repeat Event
END:VEVENT
BEGIN:VEVENT
DTSTART;TZID=America/New_York:20260107T190000
DTEND;TZID=America/New_York:20260107T203000
DTSTAMP:20260423T042441
CREATED:20251208T124300Z
LAST-MODIFIED:20251215T150709Z
UID:6643-1767812400-1767817800@darkskytexas.org
SUMMARY:First Wednesday 7PM: Dark Sky Place Coaching
DESCRIPTION:Working on an International Dark Sky Place application? Join us at 7:00PM on the first Wednesday of each month. See full list of events for more info.
URL:https://darkskytexas.org/calendar/first-wednesday-7pm-dark-sky-place-coaching-9/
CATEGORIES:DarkSky Texas,Repeat Event
END:VEVENT
BEGIN:VEVENT
DTSTART;TZID=America/New_York:20260108T190000
DTEND;TZID=America/New_York:20260108T203000
DTSTAMP:20260423T042441
CREATED:20251204T175620Z
LAST-MODIFIED:20251204T194741Z
UID:6600-1767898800-1767904200@darkskytexas.org
SUMMARY:Jan 8th - Protecting Dark Skies for Plants and all Living Things at Native Plant Society - Williamson County Chapter Meeting
DESCRIPTION:Cindy’s talk will explore the natural world and the processes that depend on the absence of artificial light. It will include a number of species but will emphasize issues that plants have with artificial lighting. Issues of navigation\, reproduction\, circadian rhythms\, photoperiodism\, competition\, predation\, and general habitat protection will be covered. It will also touch on some issues that humans have with artificial light at night. The talk wraps up with a review of what each of us can do to protect living things during the nighttime.
URL:https://darkskytexas.org/calendar/jan-8th-protecting-dark-skies-for-plants-and-all-living-things-at-native-plant-society-williamson-county-chapter-meeting/
CATEGORIES:Uncategorized
END:VEVENT
BEGIN:VEVENT
DTSTART;TZID=America/New_York:20260115T183000
DTEND;TZID=America/New_York:20260115T193000
DTSTAMP:20260423T042441
CREATED:20250815T190622Z
LAST-MODIFIED:20251204T194310Z
UID:5857-1768501800-1768505400@darkskytexas.org
SUMMARY:Jan 15th Wilson County Beautification Association Speakers Forum
DESCRIPTION:Preservation of the Night \nAre we ignoring half of the conservation work that needs to be done? Cindy will explore the natural world and its processes that depend on the absence of artificial light. Living things need natural darkness for navigation\, reproduction\, circadian rhythms\, photoperiodism\, competition\, predation\, and general habitat protection. We humans need it too. Learn what we can do to extend our conservation work to the nighttime.
URL:https://darkskytexas.org/calendar/wilson-county-beautification-association-speakers-forum/
CATEGORIES:Uncategorized
END:VEVENT
BEGIN:VEVENT
DTSTART;TZID=America/New_York:20260204T190000
DTEND;TZID=America/New_York:20260204T203000
DTSTAMP:20260423T042441
CREATED:20251208T124300Z
LAST-MODIFIED:20251215T150711Z
UID:6644-1770231600-1770237000@darkskytexas.org
SUMMARY:First Wednesday 7PM: Dark Sky Place Coaching
DESCRIPTION:Working on an International Dark Sky Place application? Join us at 7:00PM on the first Wednesday of each month. See full list of events for more info.
URL:https://darkskytexas.org/calendar/first-wednesday-7pm-dark-sky-place-coaching-10/
CATEGORIES:DarkSky Texas,Repeat Event
END:VEVENT
BEGIN:VEVENT
DTSTART;TZID=America/New_York:20260304T190000
DTEND;TZID=America/New_York:20260304T203000
DTSTAMP:20260423T042441
CREATED:20251208T124300Z
LAST-MODIFIED:20251215T150517Z
UID:6645-1772650800-1772656200@darkskytexas.org
SUMMARY:First Wednesday 7PM: Dark Sky Place Coaching
DESCRIPTION:Working on an International Dark Sky Place application? Join us at 7:00PM on the first Wednesday of each month. See full list of events for more info.
URL:https://darkskytexas.org/calendar/first-wednesday-7pm-dark-sky-place-coaching-11/
CATEGORIES:DarkSky Texas,Repeat Event
END:VEVENT
BEGIN:VEVENT
DTSTART;VALUE=DATE:20260306
DTEND;VALUE=DATE:20260309
DTSTAMP:20260423T042441
CREATED:20250815T191252Z
LAST-MODIFIED:20251204T195414Z
UID:5858-1772755200-1773014399@darkskytexas.org
SUMMARY:March 6-8\, 2026 DarkSky Texas Statewide Volunteer and Leader Gathering
DESCRIPTION:Gathering of DarkSky Texas volunteers and leaders to meet in person in Fredericksburg\, TX. We will have the opportunity to be updated on our organization\, strengthen communication\, enhance innovation\, build new skills\, and prioritize future goals for the organization. \nRegistration form for Leaders and Volunteers will be available soon.
URL:https://darkskytexas.org/calendar/darksky-texas-volunteer-and-leader-retreat/
CATEGORIES:DarkSky Texas
END:VEVENT
BEGIN:VEVENT
DTSTART;TZID=America/New_York:20260401T190000
DTEND;TZID=America/New_York:20260401T203000
DTSTAMP:20260423T042441
CREATED:20251208T124300Z
LAST-MODIFIED:20251215T150517Z
UID:6646-1775070000-1775075400@darkskytexas.org
SUMMARY:First Wednesday 7PM: Dark Sky Place Coaching
DESCRIPTION:Working on an International Dark Sky Place application? Join us at 7:00PM on the first Wednesday of each month. See full list of events for more info.
URL:https://darkskytexas.org/calendar/first-wednesday-7pm-dark-sky-place-coaching-12/
CATEGORIES:DarkSky Texas,Repeat Event
END:VEVENT
BEGIN:VEVENT
DTSTART;VALUE=DATE:20260501
DTEND;VALUE=DATE:20260503
DTSTAMP:20260423T042441
CREATED:20260312T215129Z
LAST-MODIFIED:20260316T190346Z
UID:7363-1777593600-1777766399@darkskytexas.org
SUMMARY:Bird Lovers Weekend in Bastrop May 1st & 2nd
DESCRIPTION:The Bird Lover Weekend in Bastrop\, Texas  celebrates the city’s Bird City Texas designation with activities like the “Big Sit” birdwatching\, bird-themed art walks\, educational raptor programs\, and the popular Fabulous Bird Hat contest. This free\, family-friendly event features guided\, bird-focused tours and workshops in local parks and downtown venues. \nDarkSky Texas will provide an educational presentation on Saturday May 2nd from 11am to noon at the Lost Pines Art Center. \nKey Events and Highlights : \n\nFRIDAY\, MAY 1\, 2026\n8:30am-10:00am – Birdwatching Little Hike – Bob Bryant Park\n10:00am-10:30am – Meet the Purple Martins – Bob Bryant Park\n12:00pm-8:00pm – In the Spotlight: Birdy Art – Bridges Emporium\n4:00pm-4:30pm – Meet the Purple Martins – Bob Bryant Park\n5:00pm-6:00pm – Beer and Bird Songs – 602 Brewing Co.\n6:00pm-7:00pm – Bird Hat Contest – Bridges Emporium\n6:00pm-7:00pm – Binocular Booth – Bridges Emporium \nSATURDAY\, MAY 2\, 2026 \n8:30am-10:00am –  Birdwatching Big Sit – Fisherman’s Park\n9:00am-10:00am –  Bird Sculptures Field Trip on Chestnut – start with Barred Owl at Film Alley\n10:30am-11:00am – Meet the Purple Martins – Bob Bryant Park\n10:00am-11:00am – Sky Kings Raptors Program – Lost Pines Art Center\n11:00am-12:00pm – DarkSky Texas Program – Lost Pines Art Center\n11:00am-2:00pm –  Table Talks: Birdy Info Booths – Lost Pines Art Center\n11:00am-2:00pm –  Kids Room: Birdy Activities – Lost Pines Art Center\n12:00pm-1:00pm – Lunch break! BYO lunch and chat with local birders – Lost Pines Art Center\n12:00pm-8:00pm – In the Spotlight: Birdy Art – Bridges Emporium\n1:00pm-2:00pm –  Bastrop Backyard Birds Presentation – Lost Pines Art Center\n2:00pm-3:00pm –  Meet the Purple Martins – Behind City Hall\n5:30pm-6:00pm –  Meet the Purple Martins – Behind City Hall\n6:00pm-8:00pm – Art After Dark: “Free as a Bird” Art Show with Texas Artists & Live Music –  Lost Pines Art Center
URL:https://darkskytexas.org/calendar/bird-lovers-weekend-in-bastrop-may-1st-2nd/
CATEGORIES:Uncategorized
END:VEVENT
BEGIN:VEVENT
DTSTART;TZID=America/New_York:20260506T190000
DTEND;TZID=America/New_York:20260506T203000
DTSTAMP:20260423T042441
CREATED:20251208T124300Z
LAST-MODIFIED:20251215T150517Z
UID:6647-1778094000-1778099400@darkskytexas.org
SUMMARY:First Wednesday 7PM: Dark Sky Place Coaching
DESCRIPTION:Working on an International Dark Sky Place application? Join us at 7:00PM on the first Wednesday of each month. See full list of events for more info.
URL:https://darkskytexas.org/calendar/first-wednesday-7pm-dark-sky-place-coaching-13/
CATEGORIES:DarkSky Texas,Repeat Event
END:VEVENT
BEGIN:VEVENT
DTSTART;TZID=America/New_York:20260508T203000
DTEND;TZID=America/New_York:20260508T223000
DTSTAMP:20260423T042441
CREATED:20260327T180255Z
LAST-MODIFIED:20260417T183400Z
UID:7542-1778272200-1778279400@darkskytexas.org
SUMMARY:Bring The Milky Way Home
DESCRIPTION:Liberty Hill Community Star Party \nFun Event for the Family – Telescope demonstration by Williamson County Astronomy Club \n\nSaturday\, May 8th\n8:30pm-10:30pm\nRiver Ranch County Park\n\n193 Reveille Way\, Liberty Hill\, TX 78642\n\n$4.00 entry fee per person at the park gate (under 12 free\, 65+ $2)\n\n\n\n\nBring your families\, chairs & red flashlights to see the stars in our Milky Way & explore night! \nOr buy an annual or state pass here:https://share.google/fG5Lg60qZjUh42Gbq
URL:https://darkskytexas.org/calendar/bring-the-milky-way-home/
CATEGORIES:Uncategorized
END:VEVENT
BEGIN:VEVENT
DTSTART;TZID=America/New_York:20260603T190000
DTEND;TZID=America/New_York:20260603T203000
DTSTAMP:20260423T042441
CREATED:20251208T130547Z
LAST-MODIFIED:20251215T150517Z
UID:6648-1780513200-1780518600@darkskytexas.org
SUMMARY:First Wednesday 7PM: Dark Sky Place Coaching
DESCRIPTION:Working on an International Dark Sky Place application? Join us at 7:00PM on the first Wednesday of each month. See full list of events for more info.
URL:https://darkskytexas.org/calendar/first-wednesday-7pm-dark-sky-place-coaching-14/
CATEGORIES:DarkSky Texas,Repeat Event
END:VEVENT
BEGIN:VEVENT
DTSTART;TZID=America/New_York:20260701T190000
DTEND;TZID=America/New_York:20260701T203000
DTSTAMP:20260423T042441
CREATED:20251208T130547Z
LAST-MODIFIED:20251215T150517Z
UID:6649-1782932400-1782937800@darkskytexas.org
SUMMARY:First Wednesday 7PM: Dark Sky Place Coaching
DESCRIPTION:Working on an International Dark Sky Place application? Join us at 7:00PM on the first Wednesday of each month. See full list of events for more info.
URL:https://darkskytexas.org/calendar/first-wednesday-7pm-dark-sky-place-coaching-15/
CATEGORIES:DarkSky Texas,Repeat Event
END:VEVENT
BEGIN:VEVENT
DTSTART;TZID=America/New_York:20260805T190000
DTEND;TZID=America/New_York:20260805T203000
DTSTAMP:20260423T042441
CREATED:20251208T130547Z
LAST-MODIFIED:20251215T150517Z
UID:6650-1785956400-1785961800@darkskytexas.org
SUMMARY:First Wednesday 7PM: Dark Sky Place Coaching
DESCRIPTION:Working on an International Dark Sky Place application? Join us at 7:00PM on the first Wednesday of each month. See full list of events for more info.
URL:https://darkskytexas.org/calendar/first-wednesday-7pm-dark-sky-place-coaching-16/
CATEGORIES:DarkSky Texas,Repeat Event
END:VEVENT
BEGIN:VEVENT
DTSTART;TZID=America/New_York:20260902T190000
DTEND;TZID=America/New_York:20260902T203000
DTSTAMP:20260423T042441
CREATED:20251208T130547Z
LAST-MODIFIED:20251215T150443Z
UID:6651-1788375600-1788381000@darkskytexas.org
SUMMARY:First Wednesday 7PM: Dark Sky Place Coaching
DESCRIPTION:Working on an International Dark Sky Place application? Join us at 7:00PM on the first Wednesday of each month. See full list of events for more info.
URL:https://darkskytexas.org/calendar/first-wednesday-7pm-dark-sky-place-coaching-17/
CATEGORIES:DarkSky Texas,Repeat Event
END:VEVENT
BEGIN:VEVENT
DTSTART;TZID=America/New_York:20261007T190000
DTEND;TZID=America/New_York:20261007T203000
DTSTAMP:20260423T042441
CREATED:20251208T130547Z
LAST-MODIFIED:20251215T150419Z
UID:6652-1791399600-1791405000@darkskytexas.org
SUMMARY:First Wednesday 7PM: Dark Sky Place Coaching
DESCRIPTION:Working on an International Dark Sky Place application? Join us at 7:00PM on the first Wednesday of each month. See full list of events for more info.
URL:https://darkskytexas.org/calendar/first-wednesday-7pm-dark-sky-place-coaching-18/
CATEGORIES:DarkSky Texas,Repeat Event
END:VEVENT
BEGIN:VEVENT
DTSTART;TZID=America/New_York:20261104T190000
DTEND;TZID=America/New_York:20261104T203000
DTSTAMP:20260423T042441
CREATED:20251208T130603Z
LAST-MODIFIED:20251215T150408Z
UID:6653-1793818800-1793824200@darkskytexas.org
SUMMARY:First Wednesday 7PM: Dark Sky Place Coaching
DESCRIPTION:Working on an International Dark Sky Place application? Join us at 7:00PM on the first Wednesday of each month. See full list of events for more info.
URL:https://darkskytexas.org/calendar/first-wednesday-7pm-dark-sky-place-coaching-19/
CATEGORIES:DarkSky Texas,Repeat Event
END:VEVENT
BEGIN:VEVENT
DTSTART;TZID=America/New_York:20261202T190000
DTEND;TZID=America/New_York:20261202T203000
DTSTAMP:20260423T042441
CREATED:20251208T130603Z
LAST-MODIFIED:20251215T150406Z
UID:6654-1796238000-1796243400@darkskytexas.org
SUMMARY:First Wednesday 7PM: Dark Sky Place Coaching
DESCRIPTION:Working on an International Dark Sky Place application? Join us at 7:00PM on the first Wednesday of each month. See full list of events for more info.
URL:https://darkskytexas.org/calendar/first-wednesday-7pm-dark-sky-place-coaching-20/
CATEGORIES:DarkSky Texas,Repeat Event
END:VEVENT
END:VCALENDAR