BEGIN:VCALENDAR
VERSION:2.0
PRODID:-//DarkSky Texas - Formerly IDA Texas - ECPv6.15.20//NONSGML v1.0//EN
CALSCALE:GREGORIAN
METHOD:PUBLISH
X-WR-CALNAME:DarkSky Texas - Formerly IDA Texas
X-ORIGINAL-URL:https://darkskytexas.org
X-WR-CALDESC:Events for DarkSky Texas - Formerly IDA Texas
REFRESH-INTERVAL;VALUE=DURATION:PT1H
X-Robots-Tag:noindex
X-PUBLISHED-TTL:PT1H
BEGIN:VTIMEZONE
TZID:America/New_York
BEGIN:DAYLIGHT
TZOFFSETFROM:-0500
TZOFFSETTO:-0400
TZNAME:EDT
DTSTART:20190310T070000
END:DAYLIGHT
BEGIN:STANDARD
TZOFFSETFROM:-0400
TZOFFSETTO:-0500
TZNAME:EST
DTSTART:20191103T060000
END:STANDARD
BEGIN:DAYLIGHT
TZOFFSETFROM:-0500
TZOFFSETTO:-0400
TZNAME:EDT
DTSTART:20200308T070000
END:DAYLIGHT
BEGIN:STANDARD
TZOFFSETFROM:-0400
TZOFFSETTO:-0500
TZNAME:EST
DTSTART:20201101T060000
END:STANDARD
BEGIN:DAYLIGHT
TZOFFSETFROM:-0500
TZOFFSETTO:-0400
TZNAME:EDT
DTSTART:20210314T070000
END:DAYLIGHT
BEGIN:STANDARD
TZOFFSETFROM:-0400
TZOFFSETTO:-0500
TZNAME:EST
DTSTART:20211107T060000
END:STANDARD
BEGIN:DAYLIGHT
TZOFFSETFROM:-0500
TZOFFSETTO:-0400
TZNAME:EDT
DTSTART:20220313T070000
END:DAYLIGHT
BEGIN:STANDARD
TZOFFSETFROM:-0400
TZOFFSETTO:-0500
TZNAME:EST
DTSTART:20221106T060000
END:STANDARD
BEGIN:DAYLIGHT
TZOFFSETFROM:-0500
TZOFFSETTO:-0400
TZNAME:EDT
DTSTART:20230312T070000
END:DAYLIGHT
BEGIN:STANDARD
TZOFFSETFROM:-0400
TZOFFSETTO:-0500
TZNAME:EST
DTSTART:20231105T060000
END:STANDARD
BEGIN:DAYLIGHT
TZOFFSETFROM:-0500
TZOFFSETTO:-0400
TZNAME:EDT
DTSTART:20240310T070000
END:DAYLIGHT
BEGIN:STANDARD
TZOFFSETFROM:-0400
TZOFFSETTO:-0500
TZNAME:EST
DTSTART:20241103T060000
END:STANDARD
BEGIN:DAYLIGHT
TZOFFSETFROM:-0500
TZOFFSETTO:-0400
TZNAME:EDT
DTSTART:20250309T070000
END:DAYLIGHT
BEGIN:STANDARD
TZOFFSETFROM:-0400
TZOFFSETTO:-0500
TZNAME:EST
DTSTART:20251102T060000
END:STANDARD
BEGIN:DAYLIGHT
TZOFFSETFROM:-0500
TZOFFSETTO:-0400
TZNAME:EDT
DTSTART:20260308T070000
END:DAYLIGHT
BEGIN:STANDARD
TZOFFSETFROM:-0400
TZOFFSETTO:-0500
TZNAME:EST
DTSTART:20261101T060000
END:STANDARD
END:VTIMEZONE
BEGIN:VEVENT
DTSTART;TZID=America/New_York:20250409T190000
DTEND;TZID=America/New_York:20250409T200000
DTSTAMP:20260423T070740
CREATED:20250508T172018Z
LAST-MODIFIED:20250530T135513Z
UID:5684-1744225200-1744228800@darkskytexas.org
SUMMARY:April 9\, 2025 – DarkSky Texas: Night Lights and Bat Flights with Dr. Amanda Adams
DESCRIPTION:Watch the “Night Lights and Bat Flights” webinar with Dr. Amanda Adams \n \nThis webinar explores how artificial light at night affects bats’ flight\, foraging\, and survival — and why lighting choices matter for protecting nocturnal wildlife. \nDr. Amanda Adams of Bat Conservation International (BCI) shares insights from two decades of global bat research.
URL:https://darkskytexas.org/calendar/april-9-2025-700-p-m-dark-sky-texas-night-lights-and-bat-flights-with-dr-amanda-adams/
CATEGORIES:DarkSky Texas
END:VEVENT
BEGIN:VEVENT
DTSTART;TZID=America/New_York:20250328T190000
DTEND;TZID=America/New_York:20250328T220000
DTSTAMP:20260423T070740
CREATED:20250506T172608Z
LAST-MODIFIED:20250508T183725Z
UID:5667-1743188400-1743199200@darkskytexas.org
SUMMARY:3/28 at 7pm Liberty Hill Star Party
DESCRIPTION:Join us in Liberty Hill\, Friday March 28th\, 7PM telescope set up\, crafts for the children sponsored by the library and an educational table will be set up by LH Save Our Stars. Viewing and education starting at 8 until 10 by Austin Astronomical Group.
URL:https://darkskytexas.org/calendar/3-28-at-7pm-liberty-hill-star-party/
CATEGORIES:Uncategorized
END:VEVENT
BEGIN:VEVENT
DTSTART;TZID=America/New_York:20250301T170000
DTEND;TZID=America/New_York:20250301T200000
DTSTAMP:20260423T070740
CREATED:20250506T172608Z
LAST-MODIFIED:20250508T183753Z
UID:5668-1740848400-1740859200@darkskytexas.org
SUMMARY:March 1st 5-8pm Lampasas Stars at Night
DESCRIPTION:Gather from 5pm to 8 pm for family friendly activities\, information tables\, night sky demos\, panel discussions\, food vendors\, and the big event: stargazing with professional telescopes! Learn more at: https://www.visionlampasas.org/friends-of-the-night-sky.html
URL:https://darkskytexas.org/calendar/march-1st-5-8pm-lampasas-stars-at-night/
CATEGORIES:Uncategorized
END:VEVENT
BEGIN:VEVENT
DTSTART;TZID=America/New_York:20250128T190000
DTEND;TZID=America/New_York:20250128T200000
DTSTAMP:20260423T070740
CREATED:20250509T181841Z
LAST-MODIFIED:20250530T133249Z
UID:5692-1738090800-1738094400@darkskytexas.org
SUMMARY:Jan 28\, 2025 - Dark Sky Places: All You Want to Know About Them
DESCRIPTION:Want to know more about International Dark Sky Places? What’s the same about each type of place and what’s different? How do I get started or get things moving again if they have stagnated? \nJoin Zoom Meeting\nhttps://zoom.us/j/97704446878?pwd=JGUz6DvuWZrPPqPclbeauHtdyaXjOs.1 \nMeeting ID: 977 0444 6878\nPasscode: 999096
URL:https://darkskytexas.org/calendar/jan-28-2025-700pm-dark-sky-places-all-you-want-to-know-about-them/
CATEGORIES:DarkSky Texas
END:VEVENT
BEGIN:VEVENT
DTSTART;TZID=America/New_York:20241212T190000
DTEND;TZID=America/New_York:20241212T200000
DTSTAMP:20260423T070740
CREATED:20250509T181906Z
LAST-MODIFIED:20250530T135531Z
UID:5693-1734030000-1734033600@darkskytexas.org
SUMMARY:December 12\, 2024 – Lighting for Safer Streets with Debbie Moran
DESCRIPTION:In most cities\, perceptions of safety are the primary driver for lighting policy. Often these perceptions are dead wrong and perpetuated by well-meaning officials who do not understand that LED technology easily creates disabling glare and is unforgiving. We now have not just glare but glare on steroids.
URL:https://darkskytexas.org/calendar/dec-12-2024-7pm-lighting-for-safer-streets-with-debbie-moran/
CATEGORIES:DarkSky Texas
END:VEVENT
BEGIN:VEVENT
DTSTART;TZID=America/New_York:20240306T190000
DTEND;TZID=America/New_York:20240306T200000
DTSTAMP:20260423T070740
CREATED:20250509T181956Z
LAST-MODIFIED:20250530T134925Z
UID:5694-1709751600-1709755200@darkskytexas.org
SUMMARY:March 6\, 2024 – Dark Sky Approved Sports Lighting
DESCRIPTION:Missed our event on better options for sports field lighting? No problem! Watch the two videos from the event to catch up on everything you need to know. \nIn this informative session\, Brad Schlesselman from Musco Lighting\, who serves as the Chair of the Discomfort Glare in Outdoor Nighttime Environments (DGONE) Committee of the Illuminating Engineering Society (IES)\, shared insights into neighborhood-friendly outdoor sports lighting and the advancements in lighting technology that make it possible. \nBrad is also a member of several other IES Committees and serves as Treasurer on the DarkSky International Board of Directors\, contributing his expertise to the DarkSky Finance and Technical Committees. \nWatch the videos below to see how the DarkSky Approved Outdoor Sports Lighting Program sets the standard for minimizing glare and light pollution while enhancing athletic field visibility. \nWatch the videos here: \n\nDark Sky Compliance in Sports Lighting Solutions\nEco-Friendly Solutions for Outdoor Sports Lighting\n\nDon’t forget to share this information with your local sports lighting decision-makers! It’s never too late to explore better options for your community’s sports fields.
URL:https://darkskytexas.org/calendar/march-6-2024-7pm-dark-sky-approved-sports-lighting/
CATEGORIES:DarkSky Texas
END:VEVENT
BEGIN:VEVENT
DTSTART;TZID=America/New_York:20211026T183000
DTEND;TZID=America/New_York:20211026T200000
DTSTAMP:20260423T070740
CREATED:20250509T182138Z
LAST-MODIFIED:20250530T135541Z
UID:5695-1635273000-1635278400@darkskytexas.org
SUMMARY:October 26\, 2021 – Kick Start Public Outreach in Your Community!
DESCRIPTION:Missed our meeting? Don’t worry—you can now watch the full session on YouTube! \nIn this insightful meeting\, Art Schneider\, IDA Texas North Texas Regional Manager\, and Amy Jackson\, Central Texas Regional Manager\, guided participants through the process of spreading awareness about protecting our night skies. Whether you’re looking to engage your local community or give presentations to clubs like Rotary\, astronomy groups\, or schools\, this session provides everything you need to know to get started. \nYou’ll learn: \n\nHow to prepare and deliver effective presentations for various community groups\nHow to connect with local schools and educators\nHow to use IDA Texas resources\, including videos\, PowerPoints\, and hands-on activities\nCreative demonstration ideas\, such as using color grating and mapping the night sky\n\nWatch the full video here: Kick Start Your Dark Sky Advocacy Work \nEven if you missed the live session\, you can still get involved in advocating for dark skies in your community. Watch the video and share it with others who care about keeping our night skies pristine.
URL:https://darkskytexas.org/calendar/oct-26-2021-630-pm-kick-start-public-outreach-in-your-community/
CATEGORIES:DarkSky Texas
END:VEVENT
BEGIN:VEVENT
DTSTART;TZID=America/New_York:20201020T190000
DTEND;TZID=America/New_York:20201020T200000
DTSTAMP:20260423T070740
CREATED:20250509T182823Z
LAST-MODIFIED:20250530T135046Z
UID:5696-1603220400-1603224000@darkskytexas.org
SUMMARY:October 20\, 2020 – IDA Texas: Speaker Emma Schmidt
DESCRIPTION:Learn about the “Fight for the Stars: Be a Knight for the Night” program for elementary and middle schoolers that you can take to young people in your area. Select “Online Learning” at the top of this webpage to explore this exciting educational program. \nClick here to listen to Emma explain the program in a Facebook live session.
URL:https://darkskytexas.org/calendar/october-20-2020-700-p-m-ida-texas-speaker-emma-schmidt/
CATEGORIES:DarkSky Texas
END:VEVENT
BEGIN:VEVENT
DTSTART;TZID=America/New_York:20201001T120000
DTEND;TZID=America/New_York:20201001T120000
DTSTAMP:20260423T070740
CREATED:20250509T183146Z
LAST-MODIFIED:20250530T135240Z
UID:5697-1601553600-1601553600@darkskytexas.org
SUMMARY:October 1\, 2020 – Wild Neighbors Series
DESCRIPTION:Humans have come to depend on artificial light for night-time activities. Do we understand how artificial light at night affects plants\, animals\, and even our own health? Watch Cindy Luongo Cassidy give us a peek into our natural world after dark and the effect that artificial light has on it. Her talk starts about 7 minutes into the video. Downloads: Five Lighting Principles and Better Lights for Better Nights Graphic
URL:https://darkskytexas.org/calendar/october-1-2020-1200-p-m-wild-neighbors-series/
CATEGORIES:DarkSky Texas
END:VEVENT
BEGIN:VEVENT
DTSTART;TZID=America/New_York:20200716T190000
DTEND;TZID=America/New_York:20200716T200000
DTSTAMP:20260423T070740
CREATED:20250509T183330Z
LAST-MODIFIED:20250530T135410Z
UID:5698-1594926000-1594929600@darkskytexas.org
SUMMARY:July 16\, 2020 – IDA Texas: Speaker Bill Wren
DESCRIPTION:Watch IDA Texas Present Bill Wren of McDonald Observatory talk about the proposed Greater Big Bend International Dark Sky Reserve.
URL:https://darkskytexas.org/calendar/july-16-2020-700-p-m-ida-texas-speaker-bill-wren/
CATEGORIES:DarkSky Texas
END:VEVENT
END:VCALENDAR