BEGIN:VCALENDAR
VERSION:2.0
PRODID:-//DarkSky Texas - Formerly IDA Texas - ECPv6.15.20//NONSGML v1.0//EN
CALSCALE:GREGORIAN
METHOD:PUBLISH
X-ORIGINAL-URL:https://darkskytexas.org
X-WR-CALDESC:Events for DarkSky Texas - Formerly IDA Texas
REFRESH-INTERVAL;VALUE=DURATION:PT1H
X-Robots-Tag:noindex
X-PUBLISHED-TTL:PT1H
BEGIN:VTIMEZONE
TZID:America/New_York
BEGIN:DAYLIGHT
TZOFFSETFROM:-0500
TZOFFSETTO:-0400
TZNAME:EDT
DTSTART:20240310T070000
END:DAYLIGHT
BEGIN:STANDARD
TZOFFSETFROM:-0400
TZOFFSETTO:-0500
TZNAME:EST
DTSTART:20241103T060000
END:STANDARD
BEGIN:DAYLIGHT
TZOFFSETFROM:-0500
TZOFFSETTO:-0400
TZNAME:EDT
DTSTART:20250309T070000
END:DAYLIGHT
BEGIN:STANDARD
TZOFFSETFROM:-0400
TZOFFSETTO:-0500
TZNAME:EST
DTSTART:20251102T060000
END:STANDARD
BEGIN:DAYLIGHT
TZOFFSETFROM:-0500
TZOFFSETTO:-0400
TZNAME:EDT
DTSTART:20260308T070000
END:DAYLIGHT
BEGIN:STANDARD
TZOFFSETFROM:-0400
TZOFFSETTO:-0500
TZNAME:EST
DTSTART:20261101T060000
END:STANDARD
END:VTIMEZONE
BEGIN:VEVENT
DTSTART;VALUE=DATE:20251105
DTEND;VALUE=DATE:20251106
DTSTAMP:20260423T024744
CREATED:20250513T162116Z
LAST-MODIFIED:20250513T162116Z
UID:5714-1762300800-1762387199@darkskytexas.org
SUMMARY:First Wednesday 7PM: Dark Sky Place Coaching
DESCRIPTION:Working on an International Dark Sky Place application? Join us at 7:00PM on the first Wednesday of each month (with the exception of Jan 2025 when the event will be Jan 8th). See full list of events for more info.
URL:https://darkskytexas.org/calendar/first-wednesday-7pm-dark-sky-place-coaching-6/
CATEGORIES:DarkSky Texas,Repeat Event
END:VEVENT
BEGIN:VEVENT
DTSTART;VALUE=DATE:20251105
DTEND;VALUE=DATE:20251106
DTSTAMP:20260423T024744
CREATED:20251203T190145Z
LAST-MODIFIED:20251106T190223Z
UID:6541-1762300800-1762387199@darkskytexas.org
SUMMARY:First Wednesday 7PM: Dark Sky Place Coaching
DESCRIPTION:Working on an International Dark Sky Place application? Join us at 7:00PM on the first Wednesday of each month (with the exception of Jan 2025 when the event will be Jan 8th). See full list of events for more info.
URL:https://darkskytexas.org/calendar/first-wednesday-7pm-dark-sky-place-coaching-7/
CATEGORIES:DarkSky Texas,Repeat Event
END:VEVENT
BEGIN:VEVENT
DTSTART;TZID=America/New_York:20251111T190000
DTEND;TZID=America/New_York:20251111T203000
DTSTAMP:20260423T024744
CREATED:20250815T193334Z
LAST-MODIFIED:20250815T193742Z
UID:5861-1762887600-1762893000@darkskytexas.org
SUMMARY:11 Nov 2025 7-8:30 PM DarkSky Texas Board Meeting (Open to all Volunteers)
DESCRIPTION:Review the Agenda and Join us! The agenda has the link to join the meeting. \nhttps://docs.google.com/document/d/1LRnNViIoW6NzD5R1tlhKEyClZRSId-1J/edit?usp=sharing&ouid=105677860306105778141&rtpof=true&sd=true
URL:https://darkskytexas.org/calendar/11-nov-2025-7-830-pm-darksky-texas-board-meeting-open-to-all-volunteers/
CATEGORIES:DarkSky Texas
END:VEVENT
END:VCALENDAR